BEGIN:VCALENDAR
VERSION:2.0
PRODID:icalendar-ruby
CALSCALE:GREGORIAN
X-WR-TIMEZONE:Europe/Helsinki
BEGIN:VTIMEZONE
TZID:Europe/Helsinki
BEGIN:DAYLIGHT
DTSTART:20260329T040000
TZOFFSETFROM:+0200
TZOFFSETTO:+0300
RRULE:FREQ=YEARLY;BYDAY=-1SU;BYMONTH=3
TZNAME:EEST
END:DAYLIGHT
BEGIN:STANDARD
DTSTART:20261025T030000
TZOFFSETFROM:+0300
TZOFFSETTO:+0200
RRULE:FREQ=YEARLY;BYDAY=-1SU;BYMONTH=10
TZNAME:EET
END:STANDARD
END:VTIMEZONE
BEGIN:VEVENT
DTSTAMP:20260422T202419
UID:budokwai-tk.myclub.fi-2331561
DTSTART;TZID=Europe/Helsinki:20201112T160000
DTEND;TZID=Europe/Helsinki:20201112T170000
DESCRIPTION:Lapsille suunnattu yleisharjoitus joka sisältää taekwondon l
 ajitaitoja sekä yleisliikuntataitoja monipuolisesti. Harjoitukseen ovat t
 ervetulleita sekä edistyneet\, että aloittelevat harrastajat.\n\nhttps:/
 /budokwai-tk.myclub.fi/flow/events/2331561
LOCATION:Ihalan koulu\, Konsantie 16\, 21260 Raisio
SEQUENCE:0
SUMMARY:Budokwai Taekwondo: Ihalan koulu 6-12-v. YLEISTREENI
URL;VALUE=URI:https://budokwai-tk.myclub.fi/flow/events/2331561
END:VEVENT
END:VCALENDAR
